BEGIN:VCALENDAR
VERSION:2.0
PRODID:-//Knutsford.Net - ECPv6.2.5//NONSGML v1.0//EN
CALSCALE:GREGORIAN
METHOD:PUBLISH
X-WR-CALNAME:Knutsford.Net
X-ORIGINAL-URL:https://www.knutsford.net
X-WR-CALDESC:Events for Knutsford.Net
REFRESH-INTERVAL;VALUE=DURATION:PT1H
X-Robots-Tag:noindex
X-PUBLISHED-TTL:PT1H
BEGIN:VTIMEZONE
TZID:UTC
BEGIN:STANDARD
TZOFFSETFROM:+0000
TZOFFSETTO:+0000
TZNAME:UTC
DTSTART:20230101T000000
END:STANDARD
TZID:Europe/London
BEGIN:DAYLIGHT
TZOFFSETFROM:+0000
TZOFFSETTO:+0100
TZNAME:BST
DTSTART:20230326T010000
END:DAYLIGHT
BEGIN:STANDARD
TZOFFSETFROM:+0100
TZOFFSETTO:+0000
TZNAME:GMT
DTSTART:20231029T010000
END:STANDARD
END:VTIMEZONE
BEGIN:VEVENT
DTSTART;TZID=UTC:20231102T103000
DTEND;TZID=UTC:20231102T153000
DTSTAMP:20260424T133612
CREATED:20220329T113724Z
LAST-MODIFIED:20230424T091355Z
UID:10000448-1698921000-1698939000@www.knutsford.net
SUMMARY:Always Active
DESCRIPTION:Due to popular demand now open on a Wednesday\n10.30am to 3.30pm
URL:https://www.knutsford.net/event/always-active-2022-04-14-2022-04-21-2022-05-26-2022-07-21/2023-11-02/
LOCATION:Crosstown Bowling & Social Club\, Chelford Road\,\, Knutsford\, WA16 8LY
CATEGORIES:Community,Event,Fitness,Home
ATTACH;FMTTYPE=image/jpeg:https://www.knutsford.net/wp-content/uploads/2022/03/Active-02.jpg
ORGANIZER;CN="Always Active":MAILTO:enquiries@alwaysactive.org.uk
GEO:53.298248;-2.3624868
X-APPLE-STRUCTURED-LOCATION;VALUE=URI;X-ADDRESS=Crosstown Bowling & Social Club Chelford Road Knutsford WA16 8LY;X-APPLE-RADIUS=500;X-TITLE=Chelford Road\,:geo:-2.3624868,53.298248
END:VEVENT
BEGIN:VEVENT
DTSTART;TZID=UTC:20231105T100000
DTEND;TZID=UTC:20231105T160000
DTSTAMP:20260424T133612
CREATED:20220409T232835Z
LAST-MODIFIED:20230402T180735Z
UID:10000476-1699178400-1699200000@www.knutsford.net
SUMMARY:Makers Market
DESCRIPTION:Knutsford Makers Market\n\n\n\n\n\n\n\n\n\n\n\n\nAn abundance of the North Wests finest makers\, bakers and creators showcasing every 1st Sunday of the month on Princess Street\, Regents Street and Silk Mill Street. \n\nExpect an array of art\, craft\, food\, drink\, coffee\, music and street food.\n\n\nDog friendly\n\n\n\n\n\n\n\n\n\n\n\n\n\n.\n\n\n\n\n\n\n\n\n\n\n\n\nDates for 2023\n\n\nSunday 5th February\nSunday 5th March\nSunday 2nd April\nSunday 7th May\nSunday 4th June\nSunday 2nd July\nSunday 6th August\nSunday 3rd September\nSunday 1st October\nSunday 5th November\n.\n\n\n\nKnutsford Makers Market (first Sunday of every month).\n.
URL:https://www.knutsford.net/event/makers-market/2023-11-05/
LOCATION:Princess Street (Top Street)\, WA16 6BU
CATEGORIES:Community,Event,Family Events,Home
ATTACH;FMTTYPE=image/jpeg:https://www.knutsford.net/wp-content/uploads/2022/04/Makers-Market-020417.jpg
GEO:53.3040252;-2.3752763
END:VEVENT
BEGIN:VEVENT
DTSTART;TZID=UTC:20231109T103000
DTEND;TZID=UTC:20231109T153000
DTSTAMP:20260424T133612
CREATED:20220329T113724Z
LAST-MODIFIED:20230424T091355Z
UID:10000449-1699525800-1699543800@www.knutsford.net
SUMMARY:Always Active
DESCRIPTION:Due to popular demand now open on a Wednesday\n10.30am to 3.30pm
URL:https://www.knutsford.net/event/always-active-2022-04-14-2022-04-21-2022-05-26-2022-07-21/2023-11-09/
LOCATION:Crosstown Bowling & Social Club\, Chelford Road\,\, Knutsford\, WA16 8LY
CATEGORIES:Community,Event,Fitness,Home
ATTACH;FMTTYPE=image/jpeg:https://www.knutsford.net/wp-content/uploads/2022/03/Active-02.jpg
ORGANIZER;CN="Always Active":MAILTO:enquiries@alwaysactive.org.uk
GEO:53.298248;-2.3624868
X-APPLE-STRUCTURED-LOCATION;VALUE=URI;X-ADDRESS=Crosstown Bowling & Social Club Chelford Road Knutsford WA16 8LY;X-APPLE-RADIUS=500;X-TITLE=Chelford Road\,:geo:-2.3624868,53.298248
END:VEVENT
BEGIN:VEVENT
DTSTART;TZID=Europe/London:20231112T080000
DTEND;TZID=Europe/London:20231112T170000
DTSTAMP:20260424T133612
CREATED:20231108T184733Z
LAST-MODIFIED:20231108T184733Z
UID:10000920-1699776000-1699808400@www.knutsford.net
SUMMARY:Bingo Babes
DESCRIPTION:Mr Chairman as Bingo Pete  \n\nBingo Night at Crosstown\nDate:  Sunday 12th November \nTime: 7pm for a 7.30pm start. \nThe total cost for the bingo is £13 which includes ten games of bingo\, a flyer and a raffle. \nCash prizes for each game of bingo\, a prize for the draw. \nCash only to purchase tickets\, cash/card for the bar. \nNon members welcome so please invite friends. \n\nRaffle prizes would be most welcome.
URL:https://www.knutsford.net/event/bingo-babes/
LOCATION:Crosstown Bowling & Social Club\, Chelford Road\,\, Knutsford\, WA16 8LY
CATEGORIES:Community,Event,Hobbies,Home
ATTACH;FMTTYPE=image/jpeg:https://www.knutsford.net/wp-content/uploads/2022/12/apps.34080.13510798887528624.ea88a7e6-557c-4ad5-99d7-c574f430c827.3c187ff1-754c-409a-9085-8e3aac2d97c5.jpeg
GEO:53.298248;-2.3624868
X-APPLE-STRUCTURED-LOCATION;VALUE=URI;X-ADDRESS=Crosstown Bowling & Social Club Chelford Road Knutsford WA16 8LY;X-APPLE-RADIUS=500;X-TITLE=Chelford Road\,:geo:-2.3624868,53.298248
END:VEVENT
BEGIN:VEVENT
DTSTART;TZID=UTC:20231115T103000
DTEND;TZID=UTC:20231115T153000
DTSTAMP:20260424T133612
CREATED:20231108T184953Z
LAST-MODIFIED:20231108T184953Z
UID:10001214-1700044200-1700062200@www.knutsford.net
SUMMARY:Always Active
DESCRIPTION:Due to popular demand now open on a Wednesday\n10.30am to 3.30pm
URL:https://www.knutsford.net/event/always-active-2/
LOCATION:Crosstown Bowling & Social Club\, Chelford Road\,\, Knutsford\, WA16 8LY
CATEGORIES:Community,Event,Fitness,Home
ATTACH;FMTTYPE=image/jpeg:https://www.knutsford.net/wp-content/uploads/2022/03/Active-02.jpg
ORGANIZER;CN="Always Active":MAILTO:enquiries@alwaysactive.org.uk
GEO:53.298248;-2.3624868
X-APPLE-STRUCTURED-LOCATION;VALUE=URI;X-ADDRESS=Crosstown Bowling & Social Club Chelford Road Knutsford WA16 8LY;X-APPLE-RADIUS=500;X-TITLE=Chelford Road\,:geo:-2.3624868,53.298248
END:VEVENT
BEGIN:VEVENT
DTSTART;TZID=UTC:20231116T103000
DTEND;TZID=UTC:20231116T153000
DTSTAMP:20260424T133612
CREATED:20220329T113724Z
LAST-MODIFIED:20230424T091355Z
UID:10000450-1700130600-1700148600@www.knutsford.net
SUMMARY:Always Active
DESCRIPTION:Due to popular demand now open on a Wednesday\n10.30am to 3.30pm
URL:https://www.knutsford.net/event/always-active-2022-04-14-2022-04-21-2022-05-26-2022-07-21/2023-11-16/
LOCATION:Crosstown Bowling & Social Club\, Chelford Road\,\, Knutsford\, WA16 8LY
CATEGORIES:Community,Event,Fitness,Home
ATTACH;FMTTYPE=image/jpeg:https://www.knutsford.net/wp-content/uploads/2022/03/Active-02.jpg
ORGANIZER;CN="Always Active":MAILTO:enquiries@alwaysactive.org.uk
GEO:53.298248;-2.3624868
X-APPLE-STRUCTURED-LOCATION;VALUE=URI;X-ADDRESS=Crosstown Bowling & Social Club Chelford Road Knutsford WA16 8LY;X-APPLE-RADIUS=500;X-TITLE=Chelford Road\,:geo:-2.3624868,53.298248
END:VEVENT
BEGIN:VEVENT
DTSTART;TZID=UTC:20231123T103000
DTEND;TZID=UTC:20231123T153000
DTSTAMP:20260424T133612
CREATED:20220329T113724Z
LAST-MODIFIED:20230424T091355Z
UID:10000451-1700735400-1700753400@www.knutsford.net
SUMMARY:Always Active
DESCRIPTION:Due to popular demand now open on a Wednesday\n10.30am to 3.30pm
URL:https://www.knutsford.net/event/always-active-2022-04-14-2022-04-21-2022-05-26-2022-07-21/2023-11-23/
LOCATION:Crosstown Bowling & Social Club\, Chelford Road\,\, Knutsford\, WA16 8LY
CATEGORIES:Community,Event,Fitness,Home
ATTACH;FMTTYPE=image/jpeg:https://www.knutsford.net/wp-content/uploads/2022/03/Active-02.jpg
ORGANIZER;CN="Always Active":MAILTO:enquiries@alwaysactive.org.uk
GEO:53.298248;-2.3624868
X-APPLE-STRUCTURED-LOCATION;VALUE=URI;X-ADDRESS=Crosstown Bowling & Social Club Chelford Road Knutsford WA16 8LY;X-APPLE-RADIUS=500;X-TITLE=Chelford Road\,:geo:-2.3624868,53.298248
END:VEVENT
BEGIN:VEVENT
DTSTART;TZID=UTC:20231130T103000
DTEND;TZID=UTC:20231130T153000
DTSTAMP:20260424T133612
CREATED:20220329T113724Z
LAST-MODIFIED:20230424T091355Z
UID:10000452-1701340200-1701358200@www.knutsford.net
SUMMARY:Always Active
DESCRIPTION:Due to popular demand now open on a Wednesday\n10.30am to 3.30pm
URL:https://www.knutsford.net/event/always-active-2022-04-14-2022-04-21-2022-05-26-2022-07-21/2023-11-30/
LOCATION:Crosstown Bowling & Social Club\, Chelford Road\,\, Knutsford\, WA16 8LY
CATEGORIES:Community,Event,Fitness,Home
ATTACH;FMTTYPE=image/jpeg:https://www.knutsford.net/wp-content/uploads/2022/03/Active-02.jpg
ORGANIZER;CN="Always Active":MAILTO:enquiries@alwaysactive.org.uk
GEO:53.298248;-2.3624868
X-APPLE-STRUCTURED-LOCATION;VALUE=URI;X-ADDRESS=Crosstown Bowling & Social Club Chelford Road Knutsford WA16 8LY;X-APPLE-RADIUS=500;X-TITLE=Chelford Road\,:geo:-2.3624868,53.298248
END:VEVENT
END:VCALENDAR