BEGIN:VCALENDAR
VERSION:2.0
PRODID:-//Knutsford.Net - ECPv6.2.5//NONSGML v1.0//EN
CALSCALE:GREGORIAN
METHOD:PUBLISH
X-WR-CALNAME:Knutsford.Net
X-ORIGINAL-URL:https://www.knutsford.net
X-WR-CALDESC:Events for Knutsford.Net
REFRESH-INTERVAL;VALUE=DURATION:PT1H
X-Robots-Tag:noindex
X-PUBLISHED-TTL:PT1H
BEGIN:VTIMEZONE
TZID:Europe/London
BEGIN:DAYLIGHT
TZOFFSETFROM:+0000
TZOFFSETTO:+0100
TZNAME:BST
DTSTART:20230326T010000
END:DAYLIGHT
BEGIN:STANDARD
TZOFFSETFROM:+0100
TZOFFSETTO:+0000
TZNAME:GMT
DTSTART:20231029T010000
END:STANDARD
BEGIN:DAYLIGHT
TZOFFSETFROM:+0000
TZOFFSETTO:+0100
TZNAME:BST
DTSTART:20240331T010000
END:DAYLIGHT
BEGIN:STANDARD
TZOFFSETFROM:+0100
TZOFFSETTO:+0000
TZNAME:GMT
DTSTART:20241027T010000
END:STANDARD
BEGIN:DAYLIGHT
TZOFFSETFROM:+0000
TZOFFSETTO:+0100
TZNAME:BST
DTSTART:20250330T010000
END:DAYLIGHT
BEGIN:STANDARD
TZOFFSETFROM:+0100
TZOFFSETTO:+0000
TZNAME:GMT
DTSTART:20251026T010000
END:STANDARD
END:VTIMEZONE
BEGIN:VEVENT
DTSTART;VALUE=DATE:20230608
DTEND;VALUE=DATE:20230612
DTSTAMP:20260421T214600
CREATED:20230409T113100Z
LAST-MODIFIED:20230409T113444Z
UID:10000879-1686182400-1686527999@www.knutsford.net
SUMMARY:Knutsford Music Festival
DESCRIPTION:Knutsford Music Festival\n8th – 11th June 2023 \n\n\nKnutsford Music Festival is back this year with another jam-packed weekend for music lovers! \nThe festival is back for its sixth edition this summer from 9th to 11th June 2023 and takes place across a long weekend bringing a varied programme of music to venues across Knutsford. The event is organised by Knutsford Town Council and aims to bring the community together for a weekend of music events on the doorstep. s \nThe 2023 programme is set to include four fantastic nights of folk music hosted in partnership with close friend to the festival BBC Radio presenter Mark Radcliffe\, including an exclusive pre-festival show on Thursday 8th June. \nFriday Night Blues also returns to the programme after a sell-out show in 2022\, bringing blues acts from around the country to Brook Street Chapel Hall for a night of funky blues music. \nA Classical Music Evening will return to the programme featuring a wind sextet and piano support act\, also due to be held at Brook Street Chapel Hall on Sunday 11th June. \nMusic on the Moor will return to the Moor on Saturday 10th June as a free\, open to all session celebrating up and coming local talent\, with workshops and activities in addition for all ages. \nThe fringe festival made up of events hosted by local businesses such as bars\, cafes and restaurants (plus shops and more!) will also feature as a way to increase engagement with our fantastic business community. \nTickets for the headline festival events are now on sale for £15 for general admission and £10 for those aged 16 and under. Tickets can be purchased in person via the Council Offices on Toft Road\, next door to the Library\, or via the festival website by visiting www.knutsfordmusicfestival.com \nEnquiries regarding this year’s programme can be sent to info@knutsfordmusicfestival.com or call 01565 653 929.
URL:https://www.knutsford.net/event/knutsford-music-festival/
CATEGORIES:Community,Event,Family Events,Home,Knutsford Music Festival,Local Attractions
ATTACH;FMTTYPE=image/jpeg:https://www.knutsford.net/wp-content/uploads/2021/10/Lindisfarne-Story.jpg
ORGANIZER;CN="Knutsford Music Festival":MAILTO:info@knutsfordmusicfestival.com
END:VEVENT
BEGIN:VEVENT
DTSTART;TZID=Europe/London:20231112T080000
DTEND;TZID=Europe/London:20231112T170000
DTSTAMP:20260421T214600
CREATED:20231108T184733Z
LAST-MODIFIED:20231108T184733Z
UID:10000920-1699776000-1699808400@www.knutsford.net
SUMMARY:Bingo Babes
DESCRIPTION:Mr Chairman as Bingo Pete  \n\nBingo Night at Crosstown\nDate:  Sunday 12th November \nTime: 7pm for a 7.30pm start. \nThe total cost for the bingo is £13 which includes ten games of bingo\, a flyer and a raffle. \nCash prizes for each game of bingo\, a prize for the draw. \nCash only to purchase tickets\, cash/card for the bar. \nNon members welcome so please invite friends. \n\nRaffle prizes would be most welcome.
URL:https://www.knutsford.net/event/bingo-babes/
LOCATION:Crosstown Bowling & Social Club\, Chelford Road\,\, Knutsford\, WA16 8LY
CATEGORIES:Community,Event,Hobbies,Home
ATTACH;FMTTYPE=image/jpeg:https://www.knutsford.net/wp-content/uploads/2022/12/apps.34080.13510798887528624.ea88a7e6-557c-4ad5-99d7-c574f430c827.3c187ff1-754c-409a-9085-8e3aac2d97c5.jpeg
GEO:53.298248;-2.3624868
X-APPLE-STRUCTURED-LOCATION;VALUE=URI;X-ADDRESS=Crosstown Bowling & Social Club Chelford Road Knutsford WA16 8LY;X-APPLE-RADIUS=500;X-TITLE=Chelford Road\,:geo:-2.3624868,53.298248
END:VEVENT
BEGIN:VEVENT
DTSTART;TZID=Europe/London:20231209T140000
DTEND;TZID=Europe/London:20231209T170000
DTSTAMP:20260421T214600
CREATED:20231108T183427Z
LAST-MODIFIED:20231108T183650Z
UID:10000919-1702130400-1702141200@www.knutsford.net
SUMMARY:Cake Baking Competition
DESCRIPTION:Crosstown Cake Baking Competition\nThe annual Cake baking competition will be held on Saturday 9th December. Exact rules will be sent out with next update. \nCakes must be on the table at the club by 2.00pm on Saturday 9th. \nGreat turnout last year\, let’s get more this time.
URL:https://www.knutsford.net/event/crosstown-cake-baking-competition/
LOCATION:Crosstown Bowling & Social Club\, Chelford Road\,\, Knutsford\, WA16 8LY
CATEGORIES:Community,Event,Home
ATTACH;FMTTYPE=image/png:https://www.knutsford.net/wp-content/uploads/2023/11/Victoria-Sponge.png
GEO:53.298248;-2.3624868
X-APPLE-STRUCTURED-LOCATION;VALUE=URI;X-ADDRESS=Crosstown Bowling & Social Club Chelford Road Knutsford WA16 8LY;X-APPLE-RADIUS=500;X-TITLE=Chelford Road\,:geo:-2.3624868,53.298248
END:VEVENT
BEGIN:VEVENT
DTSTART;TZID=Europe/London:20250405T130000
DTEND;TZID=Europe/London:20250405T200000
DTSTAMP:20260421T214600
CREATED:20250326T225412Z
LAST-MODIFIED:20250326T225725Z
UID:10001305-1743858000-1743883200@www.knutsford.net
SUMMARY:The Grand National
DESCRIPTION:The Grand National 2025\nincluding a Round Robin Bowling Competition\, BBQ & Play your Cards Right   – Bar open from 1pm. \nVenue: Crosstown Bowling & Social Club \nDate: Saturday 5th April 2025 \nShowing all the days races from 1.20pm\n\n\n\nSTART TIMES\nRACE\nDISTANCE\n\n\n\n\n1:20pm\nThe William Hill Handicap Hurdle (Class 1) Grade 3\n3m½f\n\n\n1.55pm\nThe Turners Mersey Novices’ Hurdle (Class 1) Grade 1\n2m 4f\n\n\n2.30pm\nThe William Hill Handicap Steeple Chase (Class 1) Grade 3\n3m 1f\n\n\n3.05pm\nThe JRL Group Liverpool Hurdle (Class 1) Grade 1\n3m ½f\n\n\n4.00pm\nThe Randox Grand National Steeple Chase (Grade 3) \n4m 2½f\n\n\n5.00pm\nThe Maghull Novices Steeple Chase (Grade 1)\n2m\n\n\n5.35pm\nThe Weatherbys Standard Open Hunt Flat (Grade 2)\n2m 1f\n\n\n\n\n  \n  \n  \n  \n  \n  \n  \n  \n \n 
URL:https://www.knutsford.net/event/the-grand-national/
LOCATION:Crosstown Bowling & Social Club\, Chelford Road\,\, Knutsford\, WA16 8LY
CATEGORIES:Community,Event,Home
ATTACH;FMTTYPE=image/jpeg:https://www.knutsford.net/wp-content/uploads/2025/03/remastered-1536x994-1.jpg
GEO:53.298248;-2.3624868
X-APPLE-STRUCTURED-LOCATION;VALUE=URI;X-ADDRESS=Crosstown Bowling & Social Club Chelford Road Knutsford WA16 8LY;X-APPLE-RADIUS=500;X-TITLE=Chelford Road\,:geo:-2.3624868,53.298248
END:VEVENT
BEGIN:VEVENT
DTSTART;TZID=Europe/London:20250503T133000
DTEND;TZID=Europe/London:20250503T160000
DTSTAMP:20260421T214600
CREATED:20180223T221244Z
LAST-MODIFIED:20250326T224515Z
UID:10000304-1746279000-1746288000@www.knutsford.net
SUMMARY:Knutsford Royal May Day
DESCRIPTION:Knutsford ‘Royal’ May Day is the highlight of the town’s calendar and takes place every year on the first Saturday in May. In 2025 May Day will take place the following week on Saturday 3rd May. \nThe procession through the town and the crowning of the May Queen began in 1864 by the Vicar of Knutsford\, the Rev. Robert Clowes. The prefix ‘Royal’ was bestowed on the event in 1887 by their Majesties King Edward VII and Queen Alexandra\, then Prince and Princess of Wales.  Despite the event being cancelled for the last two years (2020 & 2021) due to Covid-19 Knutsford remains exceedingly proud of its Royal title. \nVisit the Royal May Day website for more information of this fascinating event. \nKnutsford Royal May Day \n\n			\n		Marshall: Mr Joe Gate May Day 2019Marshall: Mr Joe Gate May Day 2019Knutsford Royal May Queen 2019
URL:https://www.knutsford.net/event/knutsford-royal-may-day/
LOCATION:Knutsford Town Centre\, Princess Street\, Knutsford\, Cheshire\, WA16 6BZ\, United Kingdom
CATEGORIES:Family Events,Home,Local Attractions,Public Notice
ATTACH;FMTTYPE=image/jpeg:https://www.knutsford.net/wp-content/uploads/2018/02/MayDay0705220036.jpg
ORGANIZER;CN="Knutsford Royal May Day Committee":MAILTO:ee.podmore@ntlworld.com
GEO:53.304179;-2.3749626
X-APPLE-STRUCTURED-LOCATION;VALUE=URI;X-ADDRESS=Knutsford Town Centre Princess Street Knutsford Cheshire WA16 6BZ United Kingdom;X-APPLE-RADIUS=500;X-TITLE=Princess Street:geo:-2.3749626,53.304179
END:VEVENT
BEGIN:VEVENT
DTSTART;TZID=Europe/London:20251105T080000
DTEND;TZID=Europe/London:20251105T170000
DTSTAMP:20260421T214600
CREATED:20251029T135745Z
LAST-MODIFIED:20251029T140518Z
UID:10001306-1762329600-1762362000@www.knutsford.net
SUMMARY:Always Active
DESCRIPTION:Due to popular demand now open on a Wednesday\n10.30am to 3.30pm
URL:https://www.knutsford.net/event/always-active-3/2025-11-05/
LOCATION:Crosstown Bowling & Social Club\, Chelford Road\,\, Knutsford\, WA16 8LY
CATEGORIES:Community,Hobbies,Home
ATTACH;FMTTYPE=image/jpeg:https://www.knutsford.net/wp-content/uploads/2022/03/Active-01.jpg
ORGANIZER;CN="Always Active":MAILTO:enquiries@alwaysactive.org.uk
GEO:53.298248;-2.3624868
X-APPLE-STRUCTURED-LOCATION;VALUE=URI;X-ADDRESS=Crosstown Bowling & Social Club Chelford Road Knutsford WA16 8LY;X-APPLE-RADIUS=500;X-TITLE=Chelford Road\,:geo:-2.3624868,53.298248
END:VEVENT
END:VCALENDAR