BEGIN:VCALENDAR
VERSION:2.0
PRODID:-//Knutsford.Net - ECPv6.2.5//NONSGML v1.0//EN
CALSCALE:GREGORIAN
METHOD:PUBLISH
X-WR-CALNAME:Knutsford.Net
X-ORIGINAL-URL:https://www.knutsford.net
X-WR-CALDESC:Events for Knutsford.Net
REFRESH-INTERVAL;VALUE=DURATION:PT1H
X-Robots-Tag:noindex
X-PUBLISHED-TTL:PT1H
BEGIN:VTIMEZONE
TZID:UTC
BEGIN:STANDARD
TZOFFSETFROM:+0000
TZOFFSETTO:+0000
TZNAME:UTC
DTSTART:20260101T000000
END:STANDARD
TZID:Europe/London
BEGIN:DAYLIGHT
TZOFFSETFROM:+0000
TZOFFSETTO:+0100
TZNAME:BST
DTSTART:20260329T010000
END:DAYLIGHT
BEGIN:STANDARD
TZOFFSETFROM:+0100
TZOFFSETTO:+0000
TZNAME:GMT
DTSTART:20261025T010000
END:STANDARD
END:VTIMEZONE
BEGIN:VEVENT
DTSTART;TZID=UTC:20260101T103000
DTEND;TZID=UTC:20260101T153000
DTSTAMP:20260421T160921
CREATED:20250326T223906Z
LAST-MODIFIED:20250326T224106Z
UID:10001253-1767263400-1767281400@www.knutsford.net
SUMMARY:Always Active
DESCRIPTION:Due to popular demand now open on a Wednesday\n10.30am to 3.30pm
URL:https://www.knutsford.net/event/always-active-2022-04-14-2022-04-21-2022-05-26-2022-07-21-3/2026-01-01/
LOCATION:Crosstown Bowling & Social Club\, Chelford Road\,\, Knutsford\, WA16 8LY
CATEGORIES:Community,Event,Fitness,Home
ATTACH;FMTTYPE=image/jpeg:https://www.knutsford.net/wp-content/uploads/2022/03/Active-02.jpg
ORGANIZER;CN="Always Active":MAILTO:enquiries@alwaysactive.org.uk
GEO:53.298248;-2.3624868
X-APPLE-STRUCTURED-LOCATION;VALUE=URI;X-ADDRESS=Crosstown Bowling & Social Club Chelford Road Knutsford WA16 8LY;X-APPLE-RADIUS=500;X-TITLE=Chelford Road\,:geo:-2.3624868,53.298248
END:VEVENT
BEGIN:VEVENT
DTSTART;TZID=Europe/London:20260107T080000
DTEND;TZID=Europe/London:20260107T170000
DTSTAMP:20260421T160921
CREATED:20251029T135745Z
LAST-MODIFIED:20251029T140518Z
UID:10001316-1767772800-1767805200@www.knutsford.net
SUMMARY:Always Active
DESCRIPTION:Due to popular demand now open on a Wednesday\n10.30am to 3.30pm
URL:https://www.knutsford.net/event/always-active-3/2026-01-07/
LOCATION:Crosstown Bowling & Social Club\, Chelford Road\,\, Knutsford\, WA16 8LY
CATEGORIES:Community,Hobbies,Home
ATTACH;FMTTYPE=image/jpeg:https://www.knutsford.net/wp-content/uploads/2022/03/Active-01.jpg
ORGANIZER;CN="Always Active":MAILTO:enquiries@alwaysactive.org.uk
GEO:53.298248;-2.3624868
X-APPLE-STRUCTURED-LOCATION;VALUE=URI;X-ADDRESS=Crosstown Bowling & Social Club Chelford Road Knutsford WA16 8LY;X-APPLE-RADIUS=500;X-TITLE=Chelford Road\,:geo:-2.3624868,53.298248
END:VEVENT
BEGIN:VEVENT
DTSTART;TZID=UTC:20260108T103000
DTEND;TZID=UTC:20260108T153000
DTSTAMP:20260421T160921
CREATED:20250326T223906Z
LAST-MODIFIED:20250326T224106Z
UID:10001254-1767868200-1767886200@www.knutsford.net
SUMMARY:Always Active
DESCRIPTION:Due to popular demand now open on a Wednesday\n10.30am to 3.30pm
URL:https://www.knutsford.net/event/always-active-2022-04-14-2022-04-21-2022-05-26-2022-07-21-3/2026-01-08/
LOCATION:Crosstown Bowling & Social Club\, Chelford Road\,\, Knutsford\, WA16 8LY
CATEGORIES:Community,Event,Fitness,Home
ATTACH;FMTTYPE=image/jpeg:https://www.knutsford.net/wp-content/uploads/2022/03/Active-02.jpg
ORGANIZER;CN="Always Active":MAILTO:enquiries@alwaysactive.org.uk
GEO:53.298248;-2.3624868
X-APPLE-STRUCTURED-LOCATION;VALUE=URI;X-ADDRESS=Crosstown Bowling & Social Club Chelford Road Knutsford WA16 8LY;X-APPLE-RADIUS=500;X-TITLE=Chelford Road\,:geo:-2.3624868,53.298248
END:VEVENT
BEGIN:VEVENT
DTSTART;TZID=Europe/London:20260114T080000
DTEND;TZID=Europe/London:20260114T170000
DTSTAMP:20260421T160921
CREATED:20251029T135745Z
LAST-MODIFIED:20251029T140518Z
UID:10001317-1768377600-1768410000@www.knutsford.net
SUMMARY:Always Active
DESCRIPTION:Due to popular demand now open on a Wednesday\n10.30am to 3.30pm
URL:https://www.knutsford.net/event/always-active-3/2026-01-14/
LOCATION:Crosstown Bowling & Social Club\, Chelford Road\,\, Knutsford\, WA16 8LY
CATEGORIES:Community,Hobbies,Home
ATTACH;FMTTYPE=image/jpeg:https://www.knutsford.net/wp-content/uploads/2022/03/Active-01.jpg
ORGANIZER;CN="Always Active":MAILTO:enquiries@alwaysactive.org.uk
GEO:53.298248;-2.3624868
X-APPLE-STRUCTURED-LOCATION;VALUE=URI;X-ADDRESS=Crosstown Bowling & Social Club Chelford Road Knutsford WA16 8LY;X-APPLE-RADIUS=500;X-TITLE=Chelford Road\,:geo:-2.3624868,53.298248
END:VEVENT
BEGIN:VEVENT
DTSTART;TZID=UTC:20260115T103000
DTEND;TZID=UTC:20260115T153000
DTSTAMP:20260421T160921
CREATED:20250326T223906Z
LAST-MODIFIED:20250326T224106Z
UID:10001255-1768473000-1768491000@www.knutsford.net
SUMMARY:Always Active
DESCRIPTION:Due to popular demand now open on a Wednesday\n10.30am to 3.30pm
URL:https://www.knutsford.net/event/always-active-2022-04-14-2022-04-21-2022-05-26-2022-07-21-3/2026-01-15/
LOCATION:Crosstown Bowling & Social Club\, Chelford Road\,\, Knutsford\, WA16 8LY
CATEGORIES:Community,Event,Fitness,Home
ATTACH;FMTTYPE=image/jpeg:https://www.knutsford.net/wp-content/uploads/2022/03/Active-02.jpg
ORGANIZER;CN="Always Active":MAILTO:enquiries@alwaysactive.org.uk
GEO:53.298248;-2.3624868
X-APPLE-STRUCTURED-LOCATION;VALUE=URI;X-ADDRESS=Crosstown Bowling & Social Club Chelford Road Knutsford WA16 8LY;X-APPLE-RADIUS=500;X-TITLE=Chelford Road\,:geo:-2.3624868,53.298248
END:VEVENT
BEGIN:VEVENT
DTSTART;TZID=Europe/London:20260121T080000
DTEND;TZID=Europe/London:20260121T170000
DTSTAMP:20260421T160921
CREATED:20251029T135745Z
LAST-MODIFIED:20251029T140518Z
UID:10001318-1768982400-1769014800@www.knutsford.net
SUMMARY:Always Active
DESCRIPTION:Due to popular demand now open on a Wednesday\n10.30am to 3.30pm
URL:https://www.knutsford.net/event/always-active-3/2026-01-21/
LOCATION:Crosstown Bowling & Social Club\, Chelford Road\,\, Knutsford\, WA16 8LY
CATEGORIES:Community,Hobbies,Home
ATTACH;FMTTYPE=image/jpeg:https://www.knutsford.net/wp-content/uploads/2022/03/Active-01.jpg
ORGANIZER;CN="Always Active":MAILTO:enquiries@alwaysactive.org.uk
GEO:53.298248;-2.3624868
X-APPLE-STRUCTURED-LOCATION;VALUE=URI;X-ADDRESS=Crosstown Bowling & Social Club Chelford Road Knutsford WA16 8LY;X-APPLE-RADIUS=500;X-TITLE=Chelford Road\,:geo:-2.3624868,53.298248
END:VEVENT
BEGIN:VEVENT
DTSTART;TZID=UTC:20260122T103000
DTEND;TZID=UTC:20260122T153000
DTSTAMP:20260421T160921
CREATED:20250326T223906Z
LAST-MODIFIED:20250326T224106Z
UID:10001256-1769077800-1769095800@www.knutsford.net
SUMMARY:Always Active
DESCRIPTION:Due to popular demand now open on a Wednesday\n10.30am to 3.30pm
URL:https://www.knutsford.net/event/always-active-2022-04-14-2022-04-21-2022-05-26-2022-07-21-3/2026-01-22/
LOCATION:Crosstown Bowling & Social Club\, Chelford Road\,\, Knutsford\, WA16 8LY
CATEGORIES:Community,Event,Fitness,Home
ATTACH;FMTTYPE=image/jpeg:https://www.knutsford.net/wp-content/uploads/2022/03/Active-02.jpg
ORGANIZER;CN="Always Active":MAILTO:enquiries@alwaysactive.org.uk
GEO:53.298248;-2.3624868
X-APPLE-STRUCTURED-LOCATION;VALUE=URI;X-ADDRESS=Crosstown Bowling & Social Club Chelford Road Knutsford WA16 8LY;X-APPLE-RADIUS=500;X-TITLE=Chelford Road\,:geo:-2.3624868,53.298248
END:VEVENT
BEGIN:VEVENT
DTSTART;TZID=Europe/London:20260128T080000
DTEND;TZID=Europe/London:20260128T170000
DTSTAMP:20260421T160921
CREATED:20251029T135745Z
LAST-MODIFIED:20251029T140518Z
UID:10001319-1769587200-1769619600@www.knutsford.net
SUMMARY:Always Active
DESCRIPTION:Due to popular demand now open on a Wednesday\n10.30am to 3.30pm
URL:https://www.knutsford.net/event/always-active-3/2026-01-28/
LOCATION:Crosstown Bowling & Social Club\, Chelford Road\,\, Knutsford\, WA16 8LY
CATEGORIES:Community,Hobbies,Home
ATTACH;FMTTYPE=image/jpeg:https://www.knutsford.net/wp-content/uploads/2022/03/Active-01.jpg
ORGANIZER;CN="Always Active":MAILTO:enquiries@alwaysactive.org.uk
GEO:53.298248;-2.3624868
X-APPLE-STRUCTURED-LOCATION;VALUE=URI;X-ADDRESS=Crosstown Bowling & Social Club Chelford Road Knutsford WA16 8LY;X-APPLE-RADIUS=500;X-TITLE=Chelford Road\,:geo:-2.3624868,53.298248
END:VEVENT
BEGIN:VEVENT
DTSTART;TZID=UTC:20260129T103000
DTEND;TZID=UTC:20260129T153000
DTSTAMP:20260421T160921
CREATED:20250326T223906Z
LAST-MODIFIED:20250326T224106Z
UID:10001257-1769682600-1769700600@www.knutsford.net
SUMMARY:Always Active
DESCRIPTION:Due to popular demand now open on a Wednesday\n10.30am to 3.30pm
URL:https://www.knutsford.net/event/always-active-2022-04-14-2022-04-21-2022-05-26-2022-07-21-3/2026-01-29/
LOCATION:Crosstown Bowling & Social Club\, Chelford Road\,\, Knutsford\, WA16 8LY
CATEGORIES:Community,Event,Fitness,Home
ATTACH;FMTTYPE=image/jpeg:https://www.knutsford.net/wp-content/uploads/2022/03/Active-02.jpg
ORGANIZER;CN="Always Active":MAILTO:enquiries@alwaysactive.org.uk
GEO:53.298248;-2.3624868
X-APPLE-STRUCTURED-LOCATION;VALUE=URI;X-ADDRESS=Crosstown Bowling & Social Club Chelford Road Knutsford WA16 8LY;X-APPLE-RADIUS=500;X-TITLE=Chelford Road\,:geo:-2.3624868,53.298248
END:VEVENT
END:VCALENDAR