BEGIN:VCALENDAR
VERSION:2.0
PRODID:-//Knutsford.Net - ECPv6.2.5//NONSGML v1.0//EN
CALSCALE:GREGORIAN
METHOD:PUBLISH
X-WR-CALNAME:Knutsford.Net
X-ORIGINAL-URL:https://www.knutsford.net
X-WR-CALDESC:Events for Knutsford.Net
REFRESH-INTERVAL;VALUE=DURATION:PT1H
X-Robots-Tag:noindex
X-PUBLISHED-TTL:PT1H
BEGIN:VTIMEZONE
TZID:Europe/London
BEGIN:DAYLIGHT
TZOFFSETFROM:+0000
TZOFFSETTO:+0100
TZNAME:BST
DTSTART:20230326T010000
END:DAYLIGHT
BEGIN:STANDARD
TZOFFSETFROM:+0100
TZOFFSETTO:+0000
TZNAME:GMT
DTSTART:20231029T010000
END:STANDARD
END:VTIMEZONE
BEGIN:VEVENT
DTSTART;TZID=Europe/London:20230109T200000
DTEND;TZID=Europe/London:20230109T230000
DTSTAMP:20260421T200402
CREATED:20230109T093350Z
LAST-MODIFIED:20230109T093848Z
UID:10000415-1673294400-1673305200@www.knutsford.net
SUMMARY:Winter Darts League
DESCRIPTION:Crosstown Club v Cheshire Cheese (Middlewich)\nThe club runs a team who play competitively\, on a Monday evening in the Holmes Chapel Winter Darts League.  We are always on the lookout for additional players who would form a second team to play in the league. \nInterested members should contact Pete Riley. \nEmail: peterriley1964@yahoo.com \nMobile: 07768511448 \nClub & Bar open at 7pm. \n\n\n\n\nADD TO CALENDAR
URL:https://www.knutsford.net/event/winter-darts-league/
CATEGORIES:Community,Hobbies,Home
ATTACH;FMTTYPE=image/jpeg:https://www.knutsford.net/wp-content/uploads/2023/01/darts2.jpg
END:VEVENT
END:VCALENDAR