BEGIN:VCALENDAR
VERSION:2.0
PRODID:-//Knutsford.Net - ECPv6.2.5//NONSGML v1.0//EN
CALSCALE:GREGORIAN
METHOD:PUBLISH
X-ORIGINAL-URL:https://www.knutsford.net
X-WR-CALDESC:Events for Knutsford.Net
REFRESH-INTERVAL;VALUE=DURATION:PT1H
X-Robots-Tag:noindex
X-PUBLISHED-TTL:PT1H
BEGIN:VTIMEZONE
TZID:Europe/London
BEGIN:DAYLIGHT
TZOFFSETFROM:+0000
TZOFFSETTO:+0100
TZNAME:BST
DTSTART:20230326T010000
END:DAYLIGHT
BEGIN:STANDARD
TZOFFSETFROM:+0100
TZOFFSETTO:+0000
TZNAME:GMT
DTSTART:20231029T010000
END:STANDARD
TZID:UTC
BEGIN:STANDARD
TZOFFSETFROM:+0000
TZOFFSETTO:+0000
TZNAME:UTC
DTSTART:20230101T000000
END:STANDARD
END:VTIMEZONE
BEGIN:VEVENT
DTSTART;TZID=Europe/London:20230830T093000
DTEND;TZID=Europe/London:20230830T103000
DTSTAMP:20260422T041258
CREATED:20211003T110741Z
LAST-MODIFIED:20230402T181137Z
UID:10000498-1693387800-1693391400@www.knutsford.net
SUMMARY:Paragon Pilates
DESCRIPTION:Paragon Pilates\n \nParagon Pilates are pleased to offer a Wednesday morning 9:30-10:30am beginners/improvers class at Toft Cricket club in Knutsford and the first class is free as a new client \nThe Clubhouse at Toft Cricket club is a large open spaces which lends it’s self well to social distancing and there is also plenty of on-site parking. \nWhy Paragon Pilates? \nEach class at Paragon Pilates is designed to mobilise the major joints in the body\, improve alignment\, reconnect the body with the breath\, restore muscle tone and develop core strength.  All classes are taught by a Body Control Pilates instructor\, the Body Control Pilates method is unique and is widely considered the industry standard for Pilates teacher training. \nOne to one private sessions are also available upon request. \nAll our classes can be booked online via our website at: \nhttps://www.paragon-pilates.co.uk/classtimetable \nOr alternatively call or email Charlotte for more information: \nEmail: paragonpilates@outlook.com \nPhone: 07795841180 \nParagon Pilates –  Offers a range of classes across Cheshire East\, each designed to mobilise the major joints in the body\, improve alignment\, reconnect the body with the breath\, restore muscle tone and develop core strength. Taught by a Body Control Pilates instructor\, the Body Control Pilates method is unique and is widely considered the industry standard for Pilates teacher training. \n.
URL:https://www.knutsford.net/event/paragon-pilates-2021-12-29-2022-01-05-2022-05-25/2023-08-30/
LOCATION:Toft Cricket Club\, Booths Hall\, Chelford Road\,\, Knutsford\, Cheshire\, WA16 8QP\, United Kingdom
CATEGORIES:Fitness,Home,Keep Fit
ATTACH;FMTTYPE=image/jpeg:https://www.knutsford.net/wp-content/uploads/2021/10/paragon.jpg
ORGANIZER;CN="Charlotte Hodges":MAILTO:paragonpilates@outlook.com
GEO:53.2880575;-2.3457107
X-APPLE-STRUCTURED-LOCATION;VALUE=URI;X-ADDRESS=Toft Cricket Club Booths Hall Chelford Road Knutsford Cheshire WA16 8QP United Kingdom;X-APPLE-RADIUS=500;X-TITLE=Booths Hall\, Chelford Road\,:geo:-2.3457107,53.2880575
END:VEVENT
BEGIN:VEVENT
DTSTART;TZID=UTC:20230831T103000
DTEND;TZID=UTC:20230831T153000
DTSTAMP:20260422T041258
CREATED:20220329T113724Z
LAST-MODIFIED:20230424T091355Z
UID:10000439-1693477800-1693495800@www.knutsford.net
SUMMARY:Always Active
DESCRIPTION:Due to popular demand now open on a Wednesday\n10.30am to 3.30pm
URL:https://www.knutsford.net/event/always-active-2022-04-14-2022-04-21-2022-05-26-2022-07-21/2023-08-31/
LOCATION:Crosstown Bowling & Social Club\, Chelford Road\,\, Knutsford\, WA16 8LY
CATEGORIES:Community,Event,Fitness,Home
ATTACH;FMTTYPE=image/jpeg:https://www.knutsford.net/wp-content/uploads/2022/03/Active-02.jpg
ORGANIZER;CN="Always Active":MAILTO:enquiries@alwaysactive.org.uk
GEO:53.298248;-2.3624868
X-APPLE-STRUCTURED-LOCATION;VALUE=URI;X-ADDRESS=Crosstown Bowling & Social Club Chelford Road Knutsford WA16 8LY;X-APPLE-RADIUS=500;X-TITLE=Chelford Road\,:geo:-2.3624868,53.298248
END:VEVENT
BEGIN:VEVENT
DTSTART;TZID=UTC:20230903T100000
DTEND;TZID=UTC:20230903T160000
DTSTAMP:20260422T041258
CREATED:20220409T232835Z
LAST-MODIFIED:20230402T180735Z
UID:10000474-1693735200-1693756800@www.knutsford.net
SUMMARY:Makers Market
DESCRIPTION:Knutsford Makers Market\n\n\n\n\n\n\n\n\n\n\n\n\nAn abundance of the North Wests finest makers\, bakers and creators showcasing every 1st Sunday of the month on Princess Street\, Regents Street and Silk Mill Street. \n\nExpect an array of art\, craft\, food\, drink\, coffee\, music and street food.\n\n\nDog friendly\n\n\n\n\n\n\n\n\n\n\n\n\n\n.\n\n\n\n\n\n\n\n\n\n\n\n\nDates for 2023\n\n\nSunday 5th February\nSunday 5th March\nSunday 2nd April\nSunday 7th May\nSunday 4th June\nSunday 2nd July\nSunday 6th August\nSunday 3rd September\nSunday 1st October\nSunday 5th November\n.\n\n\n\nKnutsford Makers Market (first Sunday of every month).\n.
URL:https://www.knutsford.net/event/makers-market/2023-09-03/
LOCATION:Princess Street (Top Street)\, WA16 6BU
CATEGORIES:Community,Event,Family Events,Home
ATTACH;FMTTYPE=image/jpeg:https://www.knutsford.net/wp-content/uploads/2022/04/Makers-Market-020417.jpg
GEO:53.3040252;-2.3752763
END:VEVENT
END:VCALENDAR