BEGIN:VCALENDAR
VERSION:2.0
PRODID:-//Knutsford.Net - ECPv6.2.5//NONSGML v1.0//EN
CALSCALE:GREGORIAN
METHOD:PUBLISH
X-ORIGINAL-URL:https://www.knutsford.net
X-WR-CALDESC:Events for Knutsford.Net
REFRESH-INTERVAL;VALUE=DURATION:PT1H
X-Robots-Tag:noindex
X-PUBLISHED-TTL:PT1H
BEGIN:VTIMEZONE
TZID:UTC
BEGIN:STANDARD
TZOFFSETFROM:+0000
TZOFFSETTO:+0000
TZNAME:UTC
DTSTART:20230101T000000
END:STANDARD
END:VTIMEZONE
BEGIN:VEVENT
DTSTART;TZID=UTC:20230928T103000
DTEND;TZID=UTC:20230928T153000
DTSTAMP:20260421T232806
CREATED:20220329T113724Z
LAST-MODIFIED:20230424T091355Z
UID:10000443-1695897000-1695915000@www.knutsford.net
SUMMARY:Always Active
DESCRIPTION:Due to popular demand now open on a Wednesday\n10.30am to 3.30pm
URL:https://www.knutsford.net/event/always-active-2022-04-14-2022-04-21-2022-05-26-2022-07-21/2023-09-28/
LOCATION:Crosstown Bowling & Social Club\, Chelford Road\,\, Knutsford\, WA16 8LY
CATEGORIES:Community,Event,Fitness,Home
ATTACH;FMTTYPE=image/jpeg:https://www.knutsford.net/wp-content/uploads/2022/03/Active-02.jpg
ORGANIZER;CN="Always Active":MAILTO:enquiries@alwaysactive.org.uk
GEO:53.298248;-2.3624868
X-APPLE-STRUCTURED-LOCATION;VALUE=URI;X-ADDRESS=Crosstown Bowling & Social Club Chelford Road Knutsford WA16 8LY;X-APPLE-RADIUS=500;X-TITLE=Chelford Road\,:geo:-2.3624868,53.298248
END:VEVENT
BEGIN:VEVENT
DTSTART;TZID=UTC:20231001T100000
DTEND;TZID=UTC:20231001T160000
DTSTAMP:20260421T232806
CREATED:20220409T232835Z
LAST-MODIFIED:20230402T180735Z
UID:10000475-1696154400-1696176000@www.knutsford.net
SUMMARY:Makers Market
DESCRIPTION:Knutsford Makers Market\n\n\n\n\n\n\n\n\n\n\n\n\nAn abundance of the North Wests finest makers\, bakers and creators showcasing every 1st Sunday of the month on Princess Street\, Regents Street and Silk Mill Street. \n\nExpect an array of art\, craft\, food\, drink\, coffee\, music and street food.\n\n\nDog friendly\n\n\n\n\n\n\n\n\n\n\n\n\n\n.\n\n\n\n\n\n\n\n\n\n\n\n\nDates for 2023\n\n\nSunday 5th February\nSunday 5th March\nSunday 2nd April\nSunday 7th May\nSunday 4th June\nSunday 2nd July\nSunday 6th August\nSunday 3rd September\nSunday 1st October\nSunday 5th November\n.\n\n\n\nKnutsford Makers Market (first Sunday of every month).\n.
URL:https://www.knutsford.net/event/makers-market/2023-10-01/
LOCATION:Princess Street (Top Street)\, WA16 6BU
CATEGORIES:Community,Event,Family Events,Home
ATTACH;FMTTYPE=image/jpeg:https://www.knutsford.net/wp-content/uploads/2022/04/Makers-Market-020417.jpg
GEO:53.3040252;-2.3752763
END:VEVENT
END:VCALENDAR