BEGIN:VCALENDAR
VERSION:2.0
PRODID:-//Knutsford.Net - ECPv6.2.5//NONSGML v1.0//EN
CALSCALE:GREGORIAN
METHOD:PUBLISH
X-WR-CALNAME:Knutsford.Net
X-ORIGINAL-URL:https://www.knutsford.net
X-WR-CALDESC:Events for Knutsford.Net
REFRESH-INTERVAL;VALUE=DURATION:PT1H
X-Robots-Tag:noindex
X-PUBLISHED-TTL:PT1H
BEGIN:VTIMEZONE
TZID:UTC
BEGIN:STANDARD
TZOFFSETFROM:+0000
TZOFFSETTO:+0000
TZNAME:UTC
DTSTART:20230101T000000
END:STANDARD
TZID:Europe/London
BEGIN:DAYLIGHT
TZOFFSETFROM:+0000
TZOFFSETTO:+0100
TZNAME:BST
DTSTART:20230326T010000
END:DAYLIGHT
BEGIN:STANDARD
TZOFFSETFROM:+0100
TZOFFSETTO:+0000
TZNAME:GMT
DTSTART:20231029T010000
END:STANDARD
BEGIN:DAYLIGHT
TZOFFSETFROM:+0000
TZOFFSETTO:+0100
TZNAME:BST
DTSTART:20240331T010000
END:DAYLIGHT
BEGIN:STANDARD
TZOFFSETFROM:+0100
TZOFFSETTO:+0000
TZNAME:GMT
DTSTART:20241027T010000
END:STANDARD
BEGIN:DAYLIGHT
TZOFFSETFROM:+0000
TZOFFSETTO:+0100
TZNAME:BST
DTSTART:20250330T010000
END:DAYLIGHT
BEGIN:STANDARD
TZOFFSETFROM:+0100
TZOFFSETTO:+0000
TZNAME:GMT
DTSTART:20251026T010000
END:STANDARD
BEGIN:DAYLIGHT
TZOFFSETFROM:+0000
TZOFFSETTO:+0100
TZNAME:BST
DTSTART:20260329T010000
END:DAYLIGHT
BEGIN:STANDARD
TZOFFSETFROM:+0100
TZOFFSETTO:+0000
TZNAME:GMT
DTSTART:20261025T010000
END:STANDARD
END:VTIMEZONE
BEGIN:VEVENT
DTSTART;TZID=UTC:20260416T103000
DTEND;TZID=UTC:20260416T153000
DTSTAMP:20260421T091819
CREATED:20260415T085354Z
LAST-MODIFIED:20260415T085354Z
UID:10001268-1776335400-1776353400@www.knutsford.net
SUMMARY:Always Active
DESCRIPTION:Due to popular demand now open on a Wednesday\n10.30am to 3.30pm
URL:https://www.knutsford.net/event/always-active-2022-04-14-2022-04-21-2022-05-26-2022-07-21-3-2/
LOCATION:Crosstown Bowling & Social Club\, Chelford Road\,\, Knutsford\, WA16 8LY
CATEGORIES:Community,Event,Fitness,Home
ATTACH;FMTTYPE=image/jpeg:https://www.knutsford.net/wp-content/uploads/2022/03/Active-02.jpg
ORGANIZER;CN="Always Active":MAILTO:enquiries@alwaysactive.org.uk
GEO:53.298248;-2.3624868
X-APPLE-STRUCTURED-LOCATION;VALUE=URI;X-ADDRESS=Crosstown Bowling & Social Club Chelford Road Knutsford WA16 8LY;X-APPLE-RADIUS=500;X-TITLE=Chelford Road\,:geo:-2.3624868,53.298248
END:VEVENT
BEGIN:VEVENT
DTSTART;TZID=Europe/London:20260415T080000
DTEND;TZID=Europe/London:20260415T170000
DTSTAMP:20260421T091819
CREATED:20251029T135745Z
LAST-MODIFIED:20251029T140518Z
UID:10001330-1776240000-1776272400@www.knutsford.net
SUMMARY:Always Active
DESCRIPTION:Due to popular demand now open on a Wednesday\n10.30am to 3.30pm
URL:https://www.knutsford.net/event/always-active-3/2026-04-15/
LOCATION:Crosstown Bowling & Social Club\, Chelford Road\,\, Knutsford\, WA16 8LY
CATEGORIES:Community,Hobbies,Home
ATTACH;FMTTYPE=image/jpeg:https://www.knutsford.net/wp-content/uploads/2022/03/Active-01.jpg
ORGANIZER;CN="Always Active":MAILTO:enquiries@alwaysactive.org.uk
GEO:53.298248;-2.3624868
X-APPLE-STRUCTURED-LOCATION;VALUE=URI;X-ADDRESS=Crosstown Bowling & Social Club Chelford Road Knutsford WA16 8LY;X-APPLE-RADIUS=500;X-TITLE=Chelford Road\,:geo:-2.3624868,53.298248
END:VEVENT
BEGIN:VEVENT
DTSTART;TZID=Europe/London:20230712T103000
DTEND;TZID=Europe/London:20230712T153000
DTSTAMP:20260421T091819
CREATED:20230424T090647Z
LAST-MODIFIED:20230424T091608Z
UID:10000915-1689157800-1689175800@www.knutsford.net
SUMMARY:Always Active
DESCRIPTION:Due to popular demand now open on a Wednesday\n10.30am to 3.30pm
URL:https://www.knutsford.net/event/always-active/2023-07-12/
LOCATION:Crosstown Bowling & Social Club\, Chelford Road\,\, Knutsford\, WA16 8LY
CATEGORIES:Community,Home,Public Notice
ATTACH;FMTTYPE=image/jpeg:https://www.knutsford.net/wp-content/uploads/2022/03/Active-01.jpg
ORGANIZER;CN="Always Active":MAILTO:enquiries@alwaysactive.org.uk
GEO:53.298248;-2.3624868
X-APPLE-STRUCTURED-LOCATION;VALUE=URI;X-ADDRESS=Crosstown Bowling & Social Club Chelford Road Knutsford WA16 8LY;X-APPLE-RADIUS=500;X-TITLE=Chelford Road\,:geo:-2.3624868,53.298248
END:VEVENT
BEGIN:VEVENT
DTSTART;TZID=UTC:20230216T103000
DTEND;TZID=UTC:20230216T153000
DTSTAMP:20260421T091819
CREATED:20220329T113724Z
LAST-MODIFIED:20230209T110112Z
UID:10000370-1676543400-1676561400@www.knutsford.net
SUMMARY:Always Active
DESCRIPTION:
URL:https://www.knutsford.net/event/always-active-2022-04-14-2022-04-21-2022-05-26/
LOCATION:Crosstown Bowling & Social Club\, Chelford Road\,\, Knutsford\, WA16 8LY
CATEGORIES:Community,Event,Fitness,Home
ATTACH;FMTTYPE=image/jpeg:https://www.knutsford.net/wp-content/uploads/2022/03/Active-02.jpg
ORGANIZER;CN="Always Active":MAILTO:enquiries@alwaysactive.org.uk
GEO:53.298248;-2.3624868
X-APPLE-STRUCTURED-LOCATION;VALUE=URI;X-ADDRESS=Crosstown Bowling & Social Club Chelford Road Knutsford WA16 8LY;X-APPLE-RADIUS=500;X-TITLE=Chelford Road\,:geo:-2.3624868,53.298248
END:VEVENT
END:VCALENDAR