BEGIN:VCALENDAR
VERSION:2.0
PRODID:-//Knutsford.Net - ECPv6.2.5//NONSGML v1.0//EN
CALSCALE:GREGORIAN
METHOD:PUBLISH
X-ORIGINAL-URL:https://www.knutsford.net
X-WR-CALDESC:Events for Knutsford.Net
REFRESH-INTERVAL;VALUE=DURATION:PT1H
X-Robots-Tag:noindex
X-PUBLISHED-TTL:PT1H
BEGIN:VTIMEZONE
TZID:Europe/London
BEGIN:DAYLIGHT
TZOFFSETFROM:+0000
TZOFFSETTO:+0100
TZNAME:BST
DTSTART:20220327T010000
END:DAYLIGHT
BEGIN:STANDARD
TZOFFSETFROM:+0100
TZOFFSETTO:+0000
TZNAME:GMT
DTSTART:20221030T010000
END:STANDARD
BEGIN:DAYLIGHT
TZOFFSETFROM:+0000
TZOFFSETTO:+0100
TZNAME:BST
DTSTART:20230326T010000
END:DAYLIGHT
BEGIN:STANDARD
TZOFFSETFROM:+0100
TZOFFSETTO:+0000
TZNAME:GMT
DTSTART:20231029T010000
END:STANDARD
END:VTIMEZONE
BEGIN:VEVENT
DTSTART;TZID=Europe/London:20230211T193000
DTEND;TZID=Europe/London:20230211T230000
DTSTAMP:20260421T105418
CREATED:20220123T022553Z
LAST-MODIFIED:20230209T112547Z
UID:10000357-1676143800-1676156400@www.knutsford.net
SUMMARY:Crosstown Social Club - Quiz Night
DESCRIPTION:Quiz Night & Golf Presentation Evening\nDate: 11th February 2023\nTime: 7.30pm \nQuizmaster:  Chris Jones \nSaturday 11th February is Chris’s infamous Quiz Night in conjunction with Golf Society.  Hot food at half time with the golf presentations.\nTeams maximum of 6 entry £1 per player.\n\nVisit the club website for more details.
URL:https://www.knutsford.net/event/crosstown-social-club-quiz-night/
LOCATION:Crosstown Bowling & Social Club\, Chelford Road\,\, Knutsford\, WA16 8LY
CATEGORIES:Community,Event,Hobbies,Home
ATTACH;FMTTYPE=image/jpeg:https://www.knutsford.net/wp-content/uploads/2022/01/Quiz-Master-Chris-Jones-1200x849-1.jpg
GEO:53.298248;-2.3624868
X-APPLE-STRUCTURED-LOCATION;VALUE=URI;X-ADDRESS=Crosstown Bowling & Social Club Chelford Road Knutsford WA16 8LY;X-APPLE-RADIUS=500;X-TITLE=Chelford Road\,:geo:-2.3624868,53.298248
END:VEVENT
BEGIN:VEVENT
DTSTART;TZID=Europe/London:20221215T193000
DTEND;TZID=Europe/London:20221215T220000
DTSTAMP:20260421T105418
CREATED:20221206T175334Z
LAST-MODIFIED:20230109T092753Z
UID:10000414-1671132600-1671141600@www.knutsford.net
SUMMARY:Bingo Night
DESCRIPTION: Crosstown Bowling & Social Club\nMonthly Bingo Sessions\nBingo Pete \nThe total cost for the bingo is £13 which includes ten games of bingo\, a flyer and a raffle. \nCash prizes for each game of bingo\, a prize for the draw. \nCash only to purchase tickets\, cash/card for the bar. \nNon members welcome. \n 
URL:https://www.knutsford.net/event/bingo-night/
LOCATION:Crosstown Bowling & Social Club\, Chelford Road\,\, Knutsford\, WA16 8LY
CATEGORIES:Community,Event,Hobbies,Home
ATTACH;FMTTYPE=image/jpeg:https://www.knutsford.net/wp-content/uploads/2022/12/apps.34080.13510798887528624.ea88a7e6-557c-4ad5-99d7-c574f430c827.3c187ff1-754c-409a-9085-8e3aac2d97c5.jpeg
GEO:53.298248;-2.3624868
X-APPLE-STRUCTURED-LOCATION;VALUE=URI;X-ADDRESS=Crosstown Bowling & Social Club Chelford Road Knutsford WA16 8LY;X-APPLE-RADIUS=500;X-TITLE=Chelford Road\,:geo:-2.3624868,53.298248
END:VEVENT
END:VCALENDAR