BEGIN:VCALENDAR
VERSION:2.0
PRODID:-//Knutsford.Net - ECPv6.2.5//NONSGML v1.0//EN
CALSCALE:GREGORIAN
METHOD:PUBLISH
X-ORIGINAL-URL:https://www.knutsford.net
X-WR-CALDESC:Events for Knutsford.Net
REFRESH-INTERVAL;VALUE=DURATION:PT1H
X-Robots-Tag:noindex
X-PUBLISHED-TTL:PT1H
BEGIN:VTIMEZONE
TZID:Europe/London
BEGIN:DAYLIGHT
TZOFFSETFROM:+0000
TZOFFSETTO:+0100
TZNAME:BST
DTSTART:20230326T010000
END:DAYLIGHT
BEGIN:STANDARD
TZOFFSETFROM:+0100
TZOFFSETTO:+0000
TZNAME:GMT
DTSTART:20231029T010000
END:STANDARD
END:VTIMEZONE
BEGIN:VEVENT
DTSTART;TZID=Europe/London:20230422T180000
DTEND;TZID=Europe/London:20230422T230000
DTSTAMP:20260422T103507
CREATED:20230409T105528Z
LAST-MODIFIED:20230409T110708Z
UID:10000876-1682186400-1682204400@www.knutsford.net
SUMMARY:Knutsford Beer Festival
DESCRIPTION:Knutsford Beer Festival\nDue to high ticket sales\, the Knutsford Beer Festival is changing venue – we’re taking the festival back to EGERTON PLACE (same venue as last year). Tickets have been flying out so we have decided to switch the venue so that we can accommodate more people. We loved the idea of holding the beer festival at 60 King Street but in reality\, we just need more space. As the building work hasn’t yet started on Egerton Place (they are planning an amazing refurb)\, they’ve agreed to let us use the building again for this year’s beer festival. Happy days 🍻 \nThis year’s event will run from 20-22 April at Egerton Place\, an iconic building in the heart of Knutsford. \nTickets
URL:https://www.knutsford.net/event/knutsford-beer-festival-4-2/
LOCATION:Egerton Place\, Church Hill\, Knutsford\, Cheshire
CATEGORIES:Community,Event,Home
ATTACH;FMTTYPE=image/jpeg:https://www.knutsford.net/wp-content/uploads/2023/04/327596299_571199111553636_6529049119645395872_n.jpg
GEO:53.3032985;-2.3731425
X-APPLE-STRUCTURED-LOCATION;VALUE=URI;X-ADDRESS=Egerton Place Church Hill Knutsford Cheshire;X-APPLE-RADIUS=500;X-TITLE=Church Hill:geo:-2.3731425,53.3032985
END:VEVENT
BEGIN:VEVENT
DTSTART;TZID=Europe/London:20230422T120000
DTEND;TZID=Europe/London:20230422T160000
DTSTAMP:20260422T103507
CREATED:20230409T111415Z
LAST-MODIFIED:20230409T111416Z
UID:10000878-1682164800-1682179200@www.knutsford.net
SUMMARY:Knutsford Beer Festival
DESCRIPTION:Knutsford Beer Festival\nDue to high ticket sales\, the Knutsford Beer Festival is changing venue – we’re taking the festival back to EGERTON PLACE (same venue as last year). Tickets have been flying out so we have decided to switch the venue so that we can accommodate more people. We loved the idea of holding the beer festival at 60 King Street but in reality\, we just need more space. As the building work hasn’t yet started on Egerton Place (they are planning an amazing refurb)\, they’ve agreed to let us use the building again for this year’s beer festival. Happy days 🍻 \nThis year’s event will run from 20-22 April at Egerton Place\, an iconic building in the heart of Knutsford. \nTickets
URL:https://www.knutsford.net/event/knutsford-beer-festival-3-3/
LOCATION:Egerton Place\, Church Hill\, Knutsford\, Cheshire
CATEGORIES:Community,Event,Home
ATTACH;FMTTYPE=image/jpeg:https://www.knutsford.net/wp-content/uploads/2023/04/327596299_571199111553636_6529049119645395872_n.jpg
GEO:53.3032985;-2.3731425
X-APPLE-STRUCTURED-LOCATION;VALUE=URI;X-ADDRESS=Egerton Place Church Hill Knutsford Cheshire;X-APPLE-RADIUS=500;X-TITLE=Church Hill:geo:-2.3731425,53.3032985
END:VEVENT
BEGIN:VEVENT
DTSTART;TZID=Europe/London:20230421T180000
DTEND;TZID=Europe/London:20230421T230000
DTSTAMP:20260422T103507
CREATED:20230409T110912Z
LAST-MODIFIED:20230409T111048Z
UID:10000877-1682100000-1682118000@www.knutsford.net
SUMMARY:Knutsford Beer Festival
DESCRIPTION:Knutsford Beer Festival\nDue to high ticket sales\, the Knutsford Beer Festival is changing venue – we’re taking the festival back to EGERTON PLACE (same venue as last year). Tickets have been flying out so we have decided to switch the venue so that we can accommodate more people. We loved the idea of holding the beer festival at 60 King Street but in reality\, we just need more space. As the building work hasn’t yet started on Egerton Place (they are planning an amazing refurb)\, they’ve agreed to let us use the building again for this year’s beer festival. Happy days 🍻 \nThis year’s event will run from 20-22 April at Egerton Place\, an iconic building in the heart of Knutsford. \nTickets
URL:https://www.knutsford.net/event/knutsford-beer-festival-3-2/
LOCATION:Egerton Place\, Church Hill\, Knutsford\, Cheshire
CATEGORIES:Community,Event,Home
ATTACH;FMTTYPE=image/jpeg:https://www.knutsford.net/wp-content/uploads/2023/04/327596299_571199111553636_6529049119645395872_n.jpg
GEO:53.3032985;-2.3731425
X-APPLE-STRUCTURED-LOCATION;VALUE=URI;X-ADDRESS=Egerton Place Church Hill Knutsford Cheshire;X-APPLE-RADIUS=500;X-TITLE=Church Hill:geo:-2.3731425,53.3032985
END:VEVENT
BEGIN:VEVENT
DTSTART;TZID=Europe/London:20230420T193000
DTEND;TZID=Europe/London:20230420T230000
DTSTAMP:20260422T103507
CREATED:20230409T104734Z
LAST-MODIFIED:20230409T111222Z
UID:10000508-1682019000-1682031600@www.knutsford.net
SUMMARY:Knutsford Beer Festival
DESCRIPTION:Knutsford Beer Festival\nDue to high ticket sales\, the Knutsford Beer Festival is changing venue – we’re taking the festival back to EGERTON PLACE (same venue as last year). Tickets have been flying out so we have decided to switch the venue so that we can accommodate more people. We loved the idea of holding the beer festival at 60 King Street but in reality\, we just need more space. As the building work hasn’t yet started on Egerton Place (they are planning an amazing refurb)\, they’ve agreed to let us use the building again for this year’s beer festival. Happy days 🍻 \nThis year’s event will run from 20-22 April at Egerton Place\, an iconic building in the heart of Knutsford. \nTickets
URL:https://www.knutsford.net/event/knutsford-beer-festival-2/
LOCATION:Egerton Place\, Church Hill\, Knutsford\, Cheshire
CATEGORIES:Community,Event,Home
ATTACH;FMTTYPE=image/jpeg:https://www.knutsford.net/wp-content/uploads/2023/04/327596299_571199111553636_6529049119645395872_n.jpg
GEO:53.3032985;-2.3731425
X-APPLE-STRUCTURED-LOCATION;VALUE=URI;X-ADDRESS=Egerton Place Church Hill Knutsford Cheshire;X-APPLE-RADIUS=500;X-TITLE=Church Hill:geo:-2.3731425,53.3032985
END:VEVENT
END:VCALENDAR