BEGIN:VCALENDAR
VERSION:2.0
PRODID:-//Knutsford.Net - ECPv6.2.5//NONSGML v1.0//EN
CALSCALE:GREGORIAN
METHOD:PUBLISH
X-ORIGINAL-URL:https://www.knutsford.net
X-WR-CALDESC:Events for Knutsford.Net
REFRESH-INTERVAL;VALUE=DURATION:PT1H
X-Robots-Tag:noindex
X-PUBLISHED-TTL:PT1H
BEGIN:VTIMEZONE
TZID:Europe/London
BEGIN:DAYLIGHT
TZOFFSETFROM:+0000
TZOFFSETTO:+0100
TZNAME:BST
DTSTART:20230326T010000
END:DAYLIGHT
BEGIN:STANDARD
TZOFFSETFROM:+0100
TZOFFSETTO:+0000
TZNAME:GMT
DTSTART:20231029T010000
END:STANDARD
END:VTIMEZONE
BEGIN:VEVENT
DTSTART;TZID=Europe/London:20230529T110000
DTEND;TZID=Europe/London:20230529T160000
DTSTAMP:20260422T113929
CREATED:20220519T164516Z
LAST-MODIFIED:20230424T103851Z
UID:10000393-1685358000-1685376000@www.knutsford.net
SUMMARY:The Lions Community Fair
DESCRIPTION:The Lions Community Fair\n \n\nThis year we will have the usual mix of charity and trade stalls\, food and drink vendors and entertainment for all the family.  More details on home page poster.  In the arena It’s a Dog Knockout will return (as in 2018) with a chance for people to give their dogs a chance to demonstrate their skills!There will be no charge for general charity/trade stalls but everyone must bring their own gazebo and table etc. and pre-registration is required – see forms below:\n\nStall Booking form and Information        Stall Booking Form only
URL:https://www.knutsford.net/event/6830/
LOCATION:Knutsford Heath\, The Heath\, Knutsford\, WA16 0ND
CATEGORIES:Community,Event,Family Events,Home
ATTACH;FMTTYPE=image/jpeg:https://www.knutsford.net/wp-content/uploads/2022/05/hdr_fair.jpg
ORGANIZER;CN="Knutsford Lions":MAILTO:knutsford.lions@virginmedia.com
GEO:53.2584124;-2.3110189
X-APPLE-STRUCTURED-LOCATION;VALUE=URI;X-ADDRESS=Knutsford Heath The Heath Knutsford WA16 0ND;X-APPLE-RADIUS=500;X-TITLE=The Heath:geo:-2.3110189,53.2584124
END:VEVENT
BEGIN:VEVENT
DTSTART;TZID=Europe/London:20230513T130000
DTEND;TZID=Europe/London:20230513T230000
DTSTAMP:20260422T113929
CREATED:20230408T222905Z
LAST-MODIFIED:20230410T225602Z
UID:10000507-1683982800-1684018800@www.knutsford.net
SUMMARY:Knutsford Fair
DESCRIPTION:Knutsford Fair (John Collin’s Funfair)\nKnutsford Fair – The Collins’s have provided Funfairs\, in support of numerous events throughout the Northwest and Knutsford Royal Mayday is Cheshire’s largest funfair and one of the biggest in the country. John Collins’s family have been connected with the running of this funfair since \nThis year (2023) the Fair will be open: \n\nFriday 5th May\nSaturday 6th May (King’s Coronation)\nSunday 7th May\nMonday 8th May\nThursday 11th May\nFriday 12th May\nSaturday 13th May (Knutsford Royal May Day)\n\nThe date for the fireworks has yet to be confirmed. \nThe official car parking for Knutsford Fair is on the Little Heath and is arranged and manned by volunteers from the Knutsford District Scouts. The entrance is on Northwich Road opposite the fair and the parking fee is £5.00 all day. \nCar Parking on May day is also available as follows\, at the Knutsford Football Club 0n Manchester Road.   The parking is available from 11:00am  and toilets are available at this site.  Knutsford Football Club also man the entrance to the Large Heath for car parking on all days except May Day from 12:00 noon. \n.\n\n\n			\n		\n. \n\n*Featured image (arial shot at top of page) courtesy of  Jid Webb\, Knutsford.
URL:https://www.knutsford.net/event/knutsford-fair-2022-04-29-2022-04-30-2022-05-01-4/
LOCATION:Knutsford Heath\, The Heath\, Knutsford\, WA16 0ND
CATEGORIES:Community,Event,Family Events,Home,Local Attractions
ATTACH;FMTTYPE=image/jpeg:https://www.knutsford.net/wp-content/uploads/2022/04/Jid-Webb-Fairground.jpg
ORGANIZER;CN="John Collins Funfairs Ltd":MAILTO:jcollinsfunfairs@aol.com
GEO:53.2584124;-2.3110189
X-APPLE-STRUCTURED-LOCATION;VALUE=URI;X-ADDRESS=Knutsford Heath The Heath Knutsford WA16 0ND;X-APPLE-RADIUS=500;X-TITLE=The Heath:geo:-2.3110189,53.2584124
END:VEVENT
BEGIN:VEVENT
DTSTART;TZID=Europe/London:20230507T203000
DTEND;TZID=Europe/London:20230507T210000
DTSTAMP:20260422T113929
CREATED:20220417T075426Z
LAST-MODIFIED:20230410T225335Z
UID:10000380-1683491400-1683493200@www.knutsford.net
SUMMARY:Firework Display
DESCRIPTION:John Collins Firework Display\nThis year\, due to the Bank Holiday falling before May Day\, the Grand Firework Display will take place on Sunday 7th May 2023. \nThe date of this year’s firework display has yet to be confirmed. \n  \nThe annual Grand Fireworks Display is provided by the kindness of John Collin’s Funfairs\, to celebrate the Knutsford ‘Royal’ May Day.  The display usually takes place on the Sunday\, after May Day and at dusk on Knutsford Heath. \nThe official car parking for Knutsford Fair is on the Little Heath and is arranged and manned by volunteers from the Knutsford District Scouts. The entrance is on Northwich Road opposite the fair and the parking fee is £5.00 all day. \nCar Parking on May Day is also available as follows\, at the Knutsford Football Club on Manchester Road.   The parking is available from 11:00am  and toilets are available at this site.  Knutsford Football Club also man the entrance to the Large Heath for car parking on all days except May Day from 12:00 noon. \nThe firework display starts promptly at dusk.
URL:https://www.knutsford.net/event/firework-display/
LOCATION:Knutsford Heath\, The Heath\, Knutsford\, WA16 0ND
CATEGORIES:Event,Family Events
ATTACH;FMTTYPE=image/jpeg:https://www.knutsford.net/wp-content/uploads/2021/10/bonfire-1.jpg
ORGANIZER;CN="John Collins Funfairs Ltd":MAILTO:jcollinsfunfairs@aol.com
GEO:53.2584124;-2.3110189
X-APPLE-STRUCTURED-LOCATION;VALUE=URI;X-ADDRESS=Knutsford Heath The Heath Knutsford WA16 0ND;X-APPLE-RADIUS=500;X-TITLE=The Heath:geo:-2.3110189,53.2584124
END:VEVENT
END:VCALENDAR